BEGIN:VCALENDAR
VERSION:2.0
PRODID:-//Kansas City Mavericks//kcmavericks.com//EN
CALSCALE:GREGORIAN
BEGIN:VEVENT
UID:https://kcmavericks.com/games/2026/05/02/tahoe-knight-monsters
DTSTAMP:20260420T041018Z
SUMMARY:Kansas City Mavericks @ Tahoe Knight Monsters
DTSTART;TZID=Canada/Pacific:20260502T190000
DTEND;TZID=Canada/Pacific:20260502T220000
DESCRIPTION:Kansas City Mavericks at Tahoe Knight Monsters
LOCATION:Tahoe Blue Event Center\, Stateline\, Nevada
URL;VALUE=URI:https://kcmavericks.com/games/2026/05/02/tahoe-knight-monster
 s
END:VEVENT
END:VCALENDAR
