BEGIN:VCALENDAR
VERSION:2.0
PRODID:-//Kansas City Mavericks//kcmavericks.com//EN
CALSCALE:GREGORIAN
BEGIN:VEVENT
UID:https://kcmavericks.com/games/2026/05/04/tahoe-knight-monsters
DTSTAMP:20260420T042359Z
SUMMARY:Tahoe Knight Monsters @ Kansas City Mavericks
DTSTART;TZID=Canada/Central:20260504T190500
DTEND;TZID=Canada/Central:20260504T220500
DESCRIPTION:Tahoe Knight Monsters at Kansas City Mavericks
LOCATION:Cable Dahmer Arena\, Independence\, Missouri
URL;VALUE=URI:https://kcmavericks.com/games/2026/05/04/tahoe-knight-monster
 s
END:VEVENT
END:VCALENDAR
