BEGIN:VCALENDAR
VERSION:2.0
PRODID:-//Kansas City Mavericks//kcmavericks.com//EN
CALSCALE:GREGORIAN
BEGIN:VEVENT
UID:https://kcmavericks.com/games/2023/11/22/tulsa-oilers
DTSTAMP:20231121T102718Z
SUMMARY:Kansas City Mavericks @ Tulsa Oilers
DTSTART;TZID=Canada/Central:20231122T190500
DTEND;TZID=Canada/Central:20231122T220500
DESCRIPTION:Kansas City Mavericks at Tulsa Oilers
LOCATION:BOK Center\, Tulsa\, Oklahoma
URL;VALUE=URI:https://kcmavericks.com/games/2023/11/22/tulsa-oilers
END:VEVENT
BEGIN:VEVENT
UID:https://kcmavericks.com/games/2023/11/24/wichita-thunder
DTSTAMP:20231121T102718Z
SUMMARY:Wichita Thunder @ Kansas City Mavericks
DTSTART;TZID=Canada/Central:20231124T193500
DTEND;TZID=Canada/Central:20231124T223500
DESCRIPTION:Wichita Thunder at Kansas City Mavericks
LOCATION:Cable Dahmer Arena\, Independence\, Missouri
URL;VALUE=URI:https://kcmavericks.com/games/2023/11/24/wichita-thunder
END:VEVENT
BEGIN:VEVENT
UID:https://kcmavericks.com/games/2023/11/25/wichita-thunder
DTSTAMP:20231121T102718Z
SUMMARY:Wichita Thunder @ Kansas City Mavericks
DTSTART;TZID=Canada/Central:20231125T180500
DTEND;TZID=Canada/Central:20231125T210500
DESCRIPTION:Wichita Thunder at Kansas City Mavericks
LOCATION:Cable Dahmer Arena\, Independence\, Missouri
URL;VALUE=URI:https://kcmavericks.com/games/2023/11/25/wichita-thunder
END:VEVENT
BEGIN:VEVENT
UID:https://kcmavericks.com/games/2023/11/29/worcester-railers
DTSTAMP:20231121T102718Z
SUMMARY:Kansas City Mavericks @ Worcester Railers
DTSTART;TZID=Canada/Eastern:20231129T100500
DTEND;TZID=Canada/Eastern:20231129T130500
DESCRIPTION:Kansas City Mavericks at Worcester Railers
LOCATION:DCU Center\, Worcester\, Massachusetts
URL;VALUE=URI:https://kcmavericks.com/games/2023/11/29/worcester-railers
END:VEVENT
BEGIN:VEVENT
UID:https://kcmavericks.com/games/2023/12/01/maine-mariners
DTSTAMP:20231121T102718Z
SUMMARY:Kansas City Mavericks @ Maine Mariners
DTSTART;TZID=Canada/Eastern:20231201T191500
DTEND;TZID=Canada/Eastern:20231201T221500
DESCRIPTION:Kansas City Mavericks at Maine Mariners
LOCATION:Cross Insurance Arena\, Portland\, Maine
URL;VALUE=URI:https://kcmavericks.com/games/2023/12/01/maine-mariners
END:VEVENT
BEGIN:VEVENT
UID:https://kcmavericks.com/games/2023/12/02/maine-mariners
DTSTAMP:20231121T102718Z
SUMMARY:Kansas City Mavericks @ Maine Mariners
DTSTART;TZID=Canada/Eastern:20231202T180000
DTEND;TZID=Canada/Eastern:20231202T210000
DESCRIPTION:Kansas City Mavericks at Maine Mariners
LOCATION:Cross Insurance Arena\, Portland\, Maine
URL;VALUE=URI:https://kcmavericks.com/games/2023/12/02/maine-mariners
END:VEVENT
BEGIN:VEVENT
UID:https://kcmavericks.com/games/2023/12/06/idaho-steelheads
DTSTAMP:20231121T102718Z
SUMMARY:Idaho Steelheads @ Kansas City Mavericks
DTSTART;TZID=Canada/Central:20231206T190500
DTEND;TZID=Canada/Central:20231206T220500
DESCRIPTION:Idaho Steelheads at Kansas City Mavericks
LOCATION:Cable Dahmer Arena\, Independence\, Missouri
URL;VALUE=URI:https://kcmavericks.com/games/2023/12/06/idaho-steelheads
END:VEVENT
BEGIN:VEVENT
UID:https://kcmavericks.com/games/2023/12/08/idaho-steelheads
DTSTAMP:20231121T102718Z
SUMMARY:Idaho Steelheads @ Kansas City Mavericks
DTSTART;TZID=Canada/Central:20231208T193500
DTEND;TZID=Canada/Central:20231208T223500
DESCRIPTION:Idaho Steelheads at Kansas City Mavericks
LOCATION:Cable Dahmer Arena\, Independence\, Missouri
URL;VALUE=URI:https://kcmavericks.com/games/2023/12/08/idaho-steelheads
END:VEVENT
BEGIN:VEVENT
UID:https://kcmavericks.com/games/2023/12/09/idaho-steelheads
DTSTAMP:20231121T102718Z
SUMMARY:Idaho Steelheads @ Kansas City Mavericks
DTSTART;TZID=Canada/Central:20231209T180500
DTEND;TZID=Canada/Central:20231209T210500
DESCRIPTION:Idaho Steelheads at Kansas City Mavericks
LOCATION:Cable Dahmer Arena\, Independence\, Missouri
URL;VALUE=URI:https://kcmavericks.com/games/2023/12/09/idaho-steelheads
END:VEVENT
BEGIN:VEVENT
UID:https://kcmavericks.com/games/2023/12/13/allen-americans
DTSTAMP:20231121T102718Z
SUMMARY:Allen Americans @ Kansas City Mavericks
DTSTART;TZID=Canada/Central:20231213T190500
DTEND;TZID=Canada/Central:20231213T220500
DESCRIPTION:Allen Americans at Kansas City Mavericks
LOCATION:Cable Dahmer Arena\, Independence\, Missouri
URL;VALUE=URI:https://kcmavericks.com/games/2023/12/13/allen-americans
END:VEVENT
BEGIN:VEVENT
UID:https://kcmavericks.com/games/2023/12/15/allen-americans
DTSTAMP:20231121T102718Z
SUMMARY:Allen Americans @ Kansas City Mavericks
DTSTART;TZID=Canada/Central:20231215T193500
DTEND;TZID=Canada/Central:20231215T223500
DESCRIPTION:Allen Americans at Kansas City Mavericks
LOCATION:Cable Dahmer Arena\, Independence\, Missouri
URL;VALUE=URI:https://kcmavericks.com/games/2023/12/15/allen-americans
END:VEVENT
BEGIN:VEVENT
UID:https://kcmavericks.com/games/2023/12/16/allen-americans
DTSTAMP:20231121T102718Z
SUMMARY:Allen Americans @ Kansas City Mavericks
DTSTART;TZID=Canada/Central:20231216T180500
DTEND;TZID=Canada/Central:20231216T210500
DESCRIPTION:Allen Americans at Kansas City Mavericks
LOCATION:Cable Dahmer Arena\, Independence\, Missouri
URL;VALUE=URI:https://kcmavericks.com/games/2023/12/16/allen-americans
END:VEVENT
BEGIN:VEVENT
UID:https://kcmavericks.com/games/2023/12/20/tulsa-oilers
DTSTAMP:20231121T102718Z
SUMMARY:Tulsa Oilers @ Kansas City Mavericks
DTSTART;TZID=Canada/Central:20231220T190500
DTEND;TZID=Canada/Central:20231220T220500
DESCRIPTION:Tulsa Oilers at Kansas City Mavericks
LOCATION:Cable Dahmer Arena\, Independence\, Missouri
URL;VALUE=URI:https://kcmavericks.com/games/2023/12/20/tulsa-oilers
END:VEVENT
BEGIN:VEVENT
UID:https://kcmavericks.com/games/2023/12/22/tulsa-oilers
DTSTAMP:20231121T102718Z
SUMMARY:Kansas City Mavericks @ Tulsa Oilers
DTSTART;TZID=Canada/Central:20231222T190500
DTEND;TZID=Canada/Central:20231222T220500
DESCRIPTION:Kansas City Mavericks at Tulsa Oilers
LOCATION:BOK Center\, Tulsa\, Oklahoma
URL;VALUE=URI:https://kcmavericks.com/games/2023/12/22/tulsa-oilers
END:VEVENT
BEGIN:VEVENT
UID:https://kcmavericks.com/games/2023/12/29/wichita-thunder
DTSTAMP:20231121T102718Z
SUMMARY:Kansas City Mavericks @ Wichita Thunder
DTSTART;TZID=Canada/Central:20231229T190500
DTEND;TZID=Canada/Central:20231229T220500
DESCRIPTION:Kansas City Mavericks at Wichita Thunder
LOCATION:INTRUST Bank Arena\, Wichita\, Kansas
URL;VALUE=URI:https://kcmavericks.com/games/2023/12/29/wichita-thunder
END:VEVENT
BEGIN:VEVENT
UID:https://kcmavericks.com/games/2023/12/30/wichita-thunder
DTSTAMP:20231121T102718Z
SUMMARY:Kansas City Mavericks @ Wichita Thunder
DTSTART;TZID=Canada/Central:20231230T190500
DTEND;TZID=Canada/Central:20231230T220500
DESCRIPTION:Kansas City Mavericks at Wichita Thunder
LOCATION:INTRUST Bank Arena\, Wichita\, Kansas
URL;VALUE=URI:https://kcmavericks.com/games/2023/12/30/wichita-thunder
END:VEVENT
BEGIN:VEVENT
UID:https://kcmavericks.com/games/2023/12/31/wichita-thunder
DTSTAMP:20231121T102718Z
SUMMARY:Wichita Thunder @ Kansas City Mavericks
DTSTART;TZID=Canada/Central:20231231T190500
DTEND;TZID=Canada/Central:20231231T220500
DESCRIPTION:Wichita Thunder at Kansas City Mavericks
LOCATION:Cable Dahmer Arena\, Independence\, Missouri
URL;VALUE=URI:https://kcmavericks.com/games/2023/12/31/wichita-thunder
END:VEVENT
BEGIN:VEVENT
UID:https://kcmavericks.com/games/2024/01/10/idaho-steelheads
DTSTAMP:20231121T102718Z
SUMMARY:Kansas City Mavericks @ Idaho Steelheads
DTSTART;TZID=Canada/Mountain:20240110T191000
DTEND;TZID=Canada/Mountain:20240110T221000
DESCRIPTION:Kansas City Mavericks at Idaho Steelheads
LOCATION:Idaho Central Arena\, Boise\, Idaho
URL;VALUE=URI:https://kcmavericks.com/games/2024/01/10/idaho-steelheads
END:VEVENT
BEGIN:VEVENT
UID:https://kcmavericks.com/games/2024/01/12/idaho-steelheads
DTSTAMP:20231121T102718Z
SUMMARY:Kansas City Mavericks @ Idaho Steelheads
DTSTART;TZID=Canada/Mountain:20240112T191000
DTEND;TZID=Canada/Mountain:20240112T221000
DESCRIPTION:Kansas City Mavericks at Idaho Steelheads
LOCATION:Idaho Central Arena\, Boise\, Idaho
URL;VALUE=URI:https://kcmavericks.com/games/2024/01/12/idaho-steelheads
END:VEVENT
BEGIN:VEVENT
UID:https://kcmavericks.com/games/2024/01/13/idaho-steelheads
DTSTAMP:20231121T102718Z
SUMMARY:Kansas City Mavericks @ Idaho Steelheads
DTSTART;TZID=Canada/Mountain:20240113T191000
DTEND;TZID=Canada/Mountain:20240113T221000
DESCRIPTION:Kansas City Mavericks at Idaho Steelheads
LOCATION:Idaho Central Arena\, Boise\, Idaho
URL;VALUE=URI:https://kcmavericks.com/games/2024/01/13/idaho-steelheads
END:VEVENT
BEGIN:VEVENT
UID:https://kcmavericks.com/games/2024/01/19/utah-grizzlies
DTSTAMP:20231121T102718Z
SUMMARY:Utah Grizzlies @ Kansas City Mavericks
DTSTART;TZID=Canada/Central:20240119T193500
DTEND;TZID=Canada/Central:20240119T223500
DESCRIPTION:Utah Grizzlies at Kansas City Mavericks
LOCATION:Cable Dahmer Arena\, Independence\, Missouri
URL;VALUE=URI:https://kcmavericks.com/games/2024/01/19/utah-grizzlies
END:VEVENT
BEGIN:VEVENT
UID:https://kcmavericks.com/games/2024/01/20/utah-grizzlies
DTSTAMP:20231121T102718Z
SUMMARY:Utah Grizzlies @ Kansas City Mavericks
DTSTART;TZID=Canada/Central:20240120T180500
DTEND;TZID=Canada/Central:20240120T210500
DESCRIPTION:Utah Grizzlies at Kansas City Mavericks
LOCATION:Cable Dahmer Arena\, Independence\, Missouri
URL;VALUE=URI:https://kcmavericks.com/games/2024/01/20/utah-grizzlies
END:VEVENT
BEGIN:VEVENT
UID:https://kcmavericks.com/games/2024/01/24/allen-americans
DTSTAMP:20231121T102718Z
SUMMARY:Allen Americans @ Kansas City Mavericks
DTSTART;TZID=Canada/Central:20240124T190500
DTEND;TZID=Canada/Central:20240124T220500
DESCRIPTION:Allen Americans at Kansas City Mavericks
LOCATION:Cable Dahmer Arena\, Independence\, Missouri
URL;VALUE=URI:https://kcmavericks.com/games/2024/01/24/allen-americans
END:VEVENT
BEGIN:VEVENT
UID:https://kcmavericks.com/games/2024/01/26/allen-americans
DTSTAMP:20231121T102718Z
SUMMARY:Allen Americans @ Kansas City Mavericks
DTSTART;TZID=Canada/Central:20240126T193500
DTEND;TZID=Canada/Central:20240126T223500
DESCRIPTION:Allen Americans at Kansas City Mavericks
LOCATION:Cable Dahmer Arena\, Independence\, Missouri
URL;VALUE=URI:https://kcmavericks.com/games/2024/01/26/allen-americans
END:VEVENT
BEGIN:VEVENT
UID:https://kcmavericks.com/games/2024/01/27/allen-americans
DTSTAMP:20231121T102718Z
SUMMARY:Allen Americans @ Kansas City Mavericks
DTSTART;TZID=Canada/Central:20240127T180500
DTEND;TZID=Canada/Central:20240127T210500
DESCRIPTION:Allen Americans at Kansas City Mavericks
LOCATION:Cable Dahmer Arena\, Independence\, Missouri
URL;VALUE=URI:https://kcmavericks.com/games/2024/01/27/allen-americans
END:VEVENT
BEGIN:VEVENT
UID:https://kcmavericks.com/games/2024/01/30/utah-grizzlies
DTSTAMP:20231121T102718Z
SUMMARY:Utah Grizzlies @ Kansas City Mavericks
DTSTART;TZID=Canada/Central:20240130T190500
DTEND;TZID=Canada/Central:20240130T220500
DESCRIPTION:Utah Grizzlies at Kansas City Mavericks
LOCATION:Cable Dahmer Arena\, Independence\, Missouri
URL;VALUE=URI:https://kcmavericks.com/games/2024/01/30/utah-grizzlies
END:VEVENT
BEGIN:VEVENT
UID:https://kcmavericks.com/games/2024/02/02/wichita-thunder
DTSTAMP:20231121T102718Z
SUMMARY:Kansas City Mavericks @ Wichita Thunder
DTSTART;TZID=Canada/Central:20240202T190500
DTEND;TZID=Canada/Central:20240202T220500
DESCRIPTION:Kansas City Mavericks at Wichita Thunder
LOCATION:INTRUST Bank Arena\, Wichita\, Kansas
URL;VALUE=URI:https://kcmavericks.com/games/2024/02/02/wichita-thunder
END:VEVENT
BEGIN:VEVENT
UID:https://kcmavericks.com/games/2024/02/03/wichita-thunder
DTSTAMP:20231121T102718Z
SUMMARY:Wichita Thunder @ Kansas City Mavericks
DTSTART;TZID=Canada/Central:20240203T180500
DTEND;TZID=Canada/Central:20240203T210500
DESCRIPTION:Wichita Thunder at Kansas City Mavericks
LOCATION:Cable Dahmer Arena\, Independence\, Missouri
URL;VALUE=URI:https://kcmavericks.com/games/2024/02/03/wichita-thunder
END:VEVENT
BEGIN:VEVENT
UID:https://kcmavericks.com/games/2024/02/04/wichita-thunder
DTSTAMP:20231121T102718Z
SUMMARY:Kansas City Mavericks @ Wichita Thunder
DTSTART;TZID=Canada/Central:20240204T160500
DTEND;TZID=Canada/Central:20240204T190500
DESCRIPTION:Kansas City Mavericks at Wichita Thunder
LOCATION:INTRUST Bank Arena\, Wichita\, Kansas
URL;VALUE=URI:https://kcmavericks.com/games/2024/02/04/wichita-thunder
END:VEVENT
BEGIN:VEVENT
UID:https://kcmavericks.com/games/2024/02/07/fort-wayne-komets
DTSTAMP:20231121T102718Z
SUMMARY:Fort Wayne Komets @ Kansas City Mavericks
DTSTART;TZID=Canada/Central:20240207T190500
DTEND;TZID=Canada/Central:20240207T220500
DESCRIPTION:Fort Wayne Komets at Kansas City Mavericks
LOCATION:Cable Dahmer Arena\, Independence\, Missouri
URL;VALUE=URI:https://kcmavericks.com/games/2024/02/07/fort-wayne-komets
END:VEVENT
BEGIN:VEVENT
UID:https://kcmavericks.com/games/2024/02/09/rapid-city-rush
DTSTAMP:20231121T102718Z
SUMMARY:Kansas City Mavericks @ Rapid City Rush
DTSTART;TZID=Canada/Mountain:20240209T190500
DTEND;TZID=Canada/Mountain:20240209T220500
DESCRIPTION:Kansas City Mavericks at Rapid City Rush
LOCATION:The Monument\, Rapid City\, South Dakota
URL;VALUE=URI:https://kcmavericks.com/games/2024/02/09/rapid-city-rush
END:VEVENT
BEGIN:VEVENT
UID:https://kcmavericks.com/games/2024/02/10/rapid-city-rush
DTSTAMP:20231121T102718Z
SUMMARY:Kansas City Mavericks @ Rapid City Rush
DTSTART;TZID=Canada/Mountain:20240210T190500
DTEND;TZID=Canada/Mountain:20240210T220500
DESCRIPTION:Kansas City Mavericks at Rapid City Rush
LOCATION:The Monument\, Rapid City\, South Dakota
URL;VALUE=URI:https://kcmavericks.com/games/2024/02/10/rapid-city-rush
END:VEVENT
BEGIN:VEVENT
UID:https://kcmavericks.com/games/2024/02/14/tulsa-oilers
DTSTAMP:20231121T102718Z
SUMMARY:Kansas City Mavericks @ Tulsa Oilers
DTSTART;TZID=Canada/Central:20240214T190500
DTEND;TZID=Canada/Central:20240214T220500
DESCRIPTION:Kansas City Mavericks at Tulsa Oilers
LOCATION:BOK Center\, Tulsa\, Oklahoma
URL;VALUE=URI:https://kcmavericks.com/games/2024/02/14/tulsa-oilers
END:VEVENT
BEGIN:VEVENT
UID:https://kcmavericks.com/games/2024/02/16/wichita-thunder
DTSTAMP:20231121T102718Z
SUMMARY:Kansas City Mavericks @ Wichita Thunder
DTSTART;TZID=Canada/Central:20240216T190500
DTEND;TZID=Canada/Central:20240216T220500
DESCRIPTION:Kansas City Mavericks at Wichita Thunder
LOCATION:INTRUST Bank Arena\, Wichita\, Kansas
URL;VALUE=URI:https://kcmavericks.com/games/2024/02/16/wichita-thunder
END:VEVENT
BEGIN:VEVENT
UID:https://kcmavericks.com/games/2024/02/17/wichita-thunder
DTSTAMP:20231121T102718Z
SUMMARY:Wichita Thunder @ Kansas City Mavericks
DTSTART;TZID=Canada/Central:20240217T180500
DTEND;TZID=Canada/Central:20240217T210500
DESCRIPTION:Wichita Thunder at Kansas City Mavericks
LOCATION:Cable Dahmer Arena\, Independence\, Missouri
URL;VALUE=URI:https://kcmavericks.com/games/2024/02/17/wichita-thunder
END:VEVENT
BEGIN:VEVENT
UID:https://kcmavericks.com/games/2024/02/23/utah-grizzlies
DTSTAMP:20231121T102718Z
SUMMARY:Utah Grizzlies @ Kansas City Mavericks
DTSTART;TZID=Canada/Central:20240223T193500
DTEND;TZID=Canada/Central:20240223T223500
DESCRIPTION:Utah Grizzlies at Kansas City Mavericks
LOCATION:Cable Dahmer Arena\, Independence\, Missouri
URL;VALUE=URI:https://kcmavericks.com/games/2024/02/23/utah-grizzlies
END:VEVENT
BEGIN:VEVENT
UID:https://kcmavericks.com/games/2024/02/24/utah-grizzlies
DTSTAMP:20231121T102718Z
SUMMARY:Utah Grizzlies @ Kansas City Mavericks
DTSTART;TZID=Canada/Central:20240224T180500
DTEND;TZID=Canada/Central:20240224T210500
DESCRIPTION:Utah Grizzlies at Kansas City Mavericks
LOCATION:Cable Dahmer Arena\, Independence\, Missouri
URL;VALUE=URI:https://kcmavericks.com/games/2024/02/24/utah-grizzlies
END:VEVENT
BEGIN:VEVENT
UID:https://kcmavericks.com/games/2024/02/25/utah-grizzlies
DTSTAMP:20231121T102718Z
SUMMARY:Utah Grizzlies @ Kansas City Mavericks
DTSTART;TZID=Canada/Central:20240225T160500
DTEND;TZID=Canada/Central:20240225T190500
DESCRIPTION:Utah Grizzlies at Kansas City Mavericks
LOCATION:Cable Dahmer Arena\, Independence\, Missouri
URL;VALUE=URI:https://kcmavericks.com/games/2024/02/25/utah-grizzlies
END:VEVENT
BEGIN:VEVENT
UID:https://kcmavericks.com/games/2024/03/01/wichita-thunder
DTSTAMP:20231121T102718Z
SUMMARY:Wichita Thunder @ Kansas City Mavericks
DTSTART;TZID=Canada/Central:20240301T193500
DTEND;TZID=Canada/Central:20240301T223500
DESCRIPTION:Wichita Thunder at Kansas City Mavericks
LOCATION:Cable Dahmer Arena\, Independence\, Missouri
URL;VALUE=URI:https://kcmavericks.com/games/2024/03/01/wichita-thunder
END:VEVENT
BEGIN:VEVENT
UID:https://kcmavericks.com/games/2024/03/02/tulsa-oilers
DTSTAMP:20231121T102718Z
SUMMARY:Kansas City Mavericks @ Tulsa Oilers
DTSTART;TZID=Canada/Central:20240302T190500
DTEND;TZID=Canada/Central:20240302T220500
DESCRIPTION:Kansas City Mavericks at Tulsa Oilers
LOCATION:BOK Center\, Tulsa\, Oklahoma
URL;VALUE=URI:https://kcmavericks.com/games/2024/03/02/tulsa-oilers
END:VEVENT
BEGIN:VEVENT
UID:https://kcmavericks.com/games/2024/03/03/tulsa-oilers
DTSTAMP:20231121T102718Z
SUMMARY:Kansas City Mavericks @ Tulsa Oilers
DTSTART;TZID=Canada/Central:20240303T160500
DTEND;TZID=Canada/Central:20240303T190500
DESCRIPTION:Kansas City Mavericks at Tulsa Oilers
LOCATION:BOK Center\, Tulsa\, Oklahoma
URL;VALUE=URI:https://kcmavericks.com/games/2024/03/03/tulsa-oilers
END:VEVENT
BEGIN:VEVENT
UID:https://kcmavericks.com/games/2024/03/08/allen-americans
DTSTAMP:20231121T102718Z
SUMMARY:Kansas City Mavericks @ Allen Americans
DTSTART;TZID=Canada/Central:20240308T191000
DTEND;TZID=Canada/Central:20240308T221000
DESCRIPTION:Kansas City Mavericks at Allen Americans
LOCATION:Credit Union of Texas Event Center\, Allen\, Texas
URL;VALUE=URI:https://kcmavericks.com/games/2024/03/08/allen-americans
END:VEVENT
BEGIN:VEVENT
UID:https://kcmavericks.com/games/2024/03/09/allen-americans
DTSTAMP:20231121T102718Z
SUMMARY:Kansas City Mavericks @ Allen Americans
DTSTART;TZID=Canada/Central:20240309T191000
DTEND;TZID=Canada/Central:20240309T221000
DESCRIPTION:Kansas City Mavericks at Allen Americans
LOCATION:Credit Union of Texas Event Center\, Allen\, Texas
URL;VALUE=URI:https://kcmavericks.com/games/2024/03/09/allen-americans
END:VEVENT
BEGIN:VEVENT
UID:https://kcmavericks.com/games/2024/03/10/wichita-thunder
DTSTAMP:20231121T102718Z
SUMMARY:Kansas City Mavericks @ Wichita Thunder
DTSTART;TZID=Canada/Central:20240310T160500
DTEND;TZID=Canada/Central:20240310T190500
DESCRIPTION:Kansas City Mavericks at Wichita Thunder
LOCATION:INTRUST Bank Arena\, Wichita\, Kansas
URL;VALUE=URI:https://kcmavericks.com/games/2024/03/10/wichita-thunder
END:VEVENT
BEGIN:VEVENT
UID:https://kcmavericks.com/games/2024/03/15/rapid-city-rush
DTSTAMP:20231121T102718Z
SUMMARY:Rapid City Rush @ Kansas City Mavericks
DTSTART;TZID=Canada/Central:20240315T193500
DTEND;TZID=Canada/Central:20240315T223500
DESCRIPTION:Rapid City Rush at Kansas City Mavericks
LOCATION:Cable Dahmer Arena\, Independence\, Missouri
URL;VALUE=URI:https://kcmavericks.com/games/2024/03/15/rapid-city-rush
END:VEVENT
BEGIN:VEVENT
UID:https://kcmavericks.com/games/2024/03/16/rapid-city-rush
DTSTAMP:20231121T102718Z
SUMMARY:Rapid City Rush @ Kansas City Mavericks
DTSTART;TZID=Canada/Central:20240316T180500
DTEND;TZID=Canada/Central:20240316T210500
DESCRIPTION:Rapid City Rush at Kansas City Mavericks
LOCATION:Cable Dahmer Arena\, Independence\, Missouri
URL;VALUE=URI:https://kcmavericks.com/games/2024/03/16/rapid-city-rush
END:VEVENT
BEGIN:VEVENT
UID:https://kcmavericks.com/games/2024/03/20/allen-americans
DTSTAMP:20231121T102718Z
SUMMARY:Kansas City Mavericks @ Allen Americans
DTSTART;TZID=Canada/Central:20240320T100000
DTEND;TZID=Canada/Central:20240320T130000
DESCRIPTION:Kansas City Mavericks at Allen Americans
LOCATION:Credit Union of Texas Event Center\, Allen\, Texas
URL;VALUE=URI:https://kcmavericks.com/games/2024/03/20/allen-americans
END:VEVENT
BEGIN:VEVENT
UID:https://kcmavericks.com/games/2024/03/22/allen-americans
DTSTAMP:20231121T102718Z
SUMMARY:Kansas City Mavericks @ Allen Americans
DTSTART;TZID=Canada/Central:20240322T191000
DTEND;TZID=Canada/Central:20240322T221000
DESCRIPTION:Kansas City Mavericks at Allen Americans
LOCATION:Credit Union of Texas Event Center\, Allen\, Texas
URL;VALUE=URI:https://kcmavericks.com/games/2024/03/22/allen-americans
END:VEVENT
BEGIN:VEVENT
UID:https://kcmavericks.com/games/2024/03/23/allen-americans
DTSTAMP:20231121T102718Z
SUMMARY:Kansas City Mavericks @ Allen Americans
DTSTART;TZID=Canada/Central:20240323T191000
DTEND;TZID=Canada/Central:20240323T221000
DESCRIPTION:Kansas City Mavericks at Allen Americans
LOCATION:Credit Union of Texas Event Center\, Allen\, Texas
URL;VALUE=URI:https://kcmavericks.com/games/2024/03/23/allen-americans
END:VEVENT
BEGIN:VEVENT
UID:https://kcmavericks.com/games/2024/03/27/iowa-heartlanders
DTSTAMP:20231121T102718Z
SUMMARY:Iowa Heartlanders @ Kansas City Mavericks
DTSTART;TZID=Canada/Central:20240327T190500
DTEND;TZID=Canada/Central:20240327T220500
DESCRIPTION:Iowa Heartlanders at Kansas City Mavericks
LOCATION:Cable Dahmer Arena\, Independence\, Missouri
URL;VALUE=URI:https://kcmavericks.com/games/2024/03/27/iowa-heartlanders
END:VEVENT
BEGIN:VEVENT
UID:https://kcmavericks.com/games/2024/03/29/iowa-heartlanders
DTSTAMP:20231121T102718Z
SUMMARY:Iowa Heartlanders @ Kansas City Mavericks
DTSTART;TZID=Canada/Central:20240329T193500
DTEND;TZID=Canada/Central:20240329T223500
DESCRIPTION:Iowa Heartlanders at Kansas City Mavericks
LOCATION:Cable Dahmer Arena\, Independence\, Missouri
URL;VALUE=URI:https://kcmavericks.com/games/2024/03/29/iowa-heartlanders
END:VEVENT
BEGIN:VEVENT
UID:https://kcmavericks.com/games/2024/03/30/iowa-heartlanders
DTSTAMP:20231121T102718Z
SUMMARY:Iowa Heartlanders @ Kansas City Mavericks
DTSTART;TZID=Canada/Central:20240330T180500
DTEND;TZID=Canada/Central:20240330T210500
DESCRIPTION:Iowa Heartlanders at Kansas City Mavericks
LOCATION:Cable Dahmer Arena\, Independence\, Missouri
URL;VALUE=URI:https://kcmavericks.com/games/2024/03/30/iowa-heartlanders
END:VEVENT
BEGIN:VEVENT
UID:https://kcmavericks.com/games/2024/04/03/utah-grizzlies
DTSTAMP:20231121T102718Z
SUMMARY:Kansas City Mavericks @ Utah Grizzlies
DTSTART;TZID=Canada/Mountain:20240403T191000
DTEND;TZID=Canada/Mountain:20240403T221000
DESCRIPTION:Kansas City Mavericks at Utah Grizzlies
LOCATION:Maverik Center\, West Valley City\, Utah
URL;VALUE=URI:https://kcmavericks.com/games/2024/04/03/utah-grizzlies
END:VEVENT
BEGIN:VEVENT
UID:https://kcmavericks.com/games/2024/04/05/utah-grizzlies
DTSTAMP:20231121T102718Z
SUMMARY:Kansas City Mavericks @ Utah Grizzlies
DTSTART;TZID=Canada/Mountain:20240405T191000
DTEND;TZID=Canada/Mountain:20240405T221000
DESCRIPTION:Kansas City Mavericks at Utah Grizzlies
LOCATION:Maverik Center\, West Valley City\, Utah
URL;VALUE=URI:https://kcmavericks.com/games/2024/04/05/utah-grizzlies
END:VEVENT
BEGIN:VEVENT
UID:https://kcmavericks.com/games/2024/04/06/utah-grizzlies
DTSTAMP:20231121T102718Z
SUMMARY:Kansas City Mavericks @ Utah Grizzlies
DTSTART;TZID=Canada/Mountain:20240406T191000
DTEND;TZID=Canada/Mountain:20240406T221000
DESCRIPTION:Kansas City Mavericks at Utah Grizzlies
LOCATION:Maverik Center\, West Valley City\, Utah
URL;VALUE=URI:https://kcmavericks.com/games/2024/04/06/utah-grizzlies
END:VEVENT
BEGIN:VEVENT
UID:https://kcmavericks.com/games/2024/04/09/cincinnati-cyclones
DTSTAMP:20231121T102718Z
SUMMARY:Cincinnati Cyclones @ Kansas City Mavericks
DTSTART;TZID=Canada/Central:20240409T190500
DTEND;TZID=Canada/Central:20240409T220500
DESCRIPTION:Cincinnati Cyclones at Kansas City Mavericks
LOCATION:Cable Dahmer Arena\, Independence\, Missouri
URL;VALUE=URI:https://kcmavericks.com/games/2024/04/09/cincinnati-cyclones
END:VEVENT
BEGIN:VEVENT
UID:https://kcmavericks.com/games/2024/04/10/cincinnati-cyclones
DTSTAMP:20231121T102718Z
SUMMARY:Cincinnati Cyclones @ Kansas City Mavericks
DTSTART;TZID=Canada/Central:20240410T190500
DTEND;TZID=Canada/Central:20240410T220500
DESCRIPTION:Cincinnati Cyclones at Kansas City Mavericks
LOCATION:Cable Dahmer Arena\, Independence\, Missouri
URL;VALUE=URI:https://kcmavericks.com/games/2024/04/10/cincinnati-cyclones
END:VEVENT
BEGIN:VEVENT
UID:https://kcmavericks.com/games/2024/04/13/iowa-heartlanders
DTSTAMP:20231121T102718Z
SUMMARY:Kansas City Mavericks @ Iowa Heartlanders
DTSTART;TZID=Canada/Central:20240413T180500
DTEND;TZID=Canada/Central:20240413T210500
DESCRIPTION:Kansas City Mavericks at Iowa Heartlanders
LOCATION:Xtream Arena\, Coralville\, Iowa
URL;VALUE=URI:https://kcmavericks.com/games/2024/04/13/iowa-heartlanders
END:VEVENT
END:VCALENDAR
